BEGIN:VCALENDAR
VERSION:2.0
PRODID:-//Squarespace Inc/Squarespace 6//v6//EN
BEGIN:VEVENT
UID:5790df3ecd0f68218c455063@squarespace.com
DTSTAMP:20160721T144339Z
DTSTART:20160619T150000Z
DTEND:20160620T010000Z
SUMMARY:Reckless In Love - Body & Soul 2016
END:VEVENT
END:VCALENDAR
