BEGIN:VCALENDAR
VERSION:2.0
PRODID:-//Squarespace Inc/Squarespace 6//v6//EN
BEGIN:VEVENT
UID:57059fea9f7266e11af81da7@squarespace.com
DTSTAMP:20160406T234650Z
DTSTART:20160514T193000Z
DTEND:20160514T220000Z
SUMMARY:Ciaran Lavery : 'Let Bad In' Album Launch
GEO:53.341149;-6.257048
LOCATION:freemasons hall\, Molesworth Street\, Dublin\, Dublin\, Ireland
END:VEVENT
END:VCALENDAR
