BEGIN:VCALENDAR
VERSION:2.0
PRODID:-//Squarespace Inc/Squarespace 6//v6//EN
BEGIN:VEVENT
UID:57346e4d20c647c55c5b5c6f@squarespace.com
DTSTAMP:20160512T115404Z
DTSTART:20160513T200000Z
DTEND:20160514T000000Z
SUMMARY:ZEHR GUT #2 : KLEINTIERSCHAUKEL
GEO:53.331241;-6.264557
LOCATION:The Bernard Shaw\, Richmond Street South\, Dublin\, Dublin\, Irela
 nd
END:VEVENT
END:VCALENDAR
