BEGIN:VCALENDAR
VERSION:2.0
PRODID:-//Squarespace Inc/Squarespace 6//v6//EN
BEGIN:VEVENT
UID:57058e234c2f853343bd32c5@squarespace.com
DTSTAMP:20160406T223219Z
DTSTART:20160415T220000Z
DTEND:20160416T020000Z
SUMMARY:Zehr Gut Presents : Dana Ruh (Cocoon) 
END:VEVENT
END:VCALENDAR
