BEGIN:VCALENDAR
VERSION:2.0
PRODID:-//Squarespace Inc/Squarespace 6//v6//EN
BEGIN:VEVENT
UID:56bcd83427d4bd4fca2b9fa1@squarespace.com
DTSTAMP:20160918T221530Z
DTSTART:20160303T203000Z
DTEND:20160303T230000Z
SUMMARY:Homebeat presents : Lubomyr Melnyk [Erased Tapes] [SOLD OUT]
END:VEVENT
END:VCALENDAR
