BEGIN:VCALENDAR
VERSION:2.0
PRODID:-//Squarespace Inc/Squarespace 6//v6//EN
BEGIN:VEVENT
UID:56e2089e07eaa0e3b894e3fc@squarespace.com
DTSTAMP:20160310T235440Z
DTSTART:20160311T230000Z
DTEND:20160312T030000Z
SUMMARY:Texture #2 - Ripperton | Replete
END:VEVENT
END:VCALENDAR
