BEGIN:VCALENDAR
VERSION:2.0
PRODID:-//Squarespace Inc/Squarespace 6//v6//EN
BEGIN:VEVENT
UID:56bcc65fa3360c3e7cb49359@squarespace.com
DTSTAMP:20160211T185120Z
DTSTART:20160213T140000Z
DTEND:20160213T150000Z
SUMMARY:Thirty Four Saturdays
END:VEVENT
END:VCALENDAR
