BEGIN:VCALENDAR
VERSION:2.0
PRODID:-//Squarespace Inc/Squarespace 6//v6//EN
BEGIN:VEVENT
UID:56bcdbaf59827e2658b58355@squarespace.com
DTSTAMP:20160211T190824Z
DTSTART:20160227T220000Z
DTEND:20160228T030000Z
SUMMARY:Texture #1 - Matthew Dekay
END:VEVENT
END:VCALENDAR
