BEGIN:VCALENDAR
VERSION:2.0
PRODID:-//Squarespace Inc/Squarespace 6//v6//EN
BEGIN:VEVENT
UID:56bcd6ceab48de781b021d28@squarespace.com
DTSTAMP:20160211T185050Z
DTSTART:20160220T210000Z
DTEND:20160221T020000Z
SUMMARY:Cloud Castle Lake // Bantum // Slow Moving Clouds
END:VEVENT
END:VCALENDAR
